BEGIN:VCALENDAR
VERSION:2.0
PRODID:-//Lone Wolf Gun Works - ECPv6.15.20//NONSGML v1.0//EN
CALSCALE:GREGORIAN
METHOD:PUBLISH
X-WR-CALNAME:Lone Wolf Gun Works
X-ORIGINAL-URL:https://lonewolfgunworks.com
X-WR-CALDESC:Events for Lone Wolf Gun Works
REFRESH-INTERVAL;VALUE=DURATION:PT1H
X-Robots-Tag:noindex
X-PUBLISHED-TTL:PT1H
BEGIN:VTIMEZONE
TZID:America/Los_Angeles
BEGIN:DAYLIGHT
TZOFFSETFROM:-0800
TZOFFSETTO:-0700
TZNAME:PDT
DTSTART:20240310T100000
END:DAYLIGHT
BEGIN:STANDARD
TZOFFSETFROM:-0700
TZOFFSETTO:-0800
TZNAME:PST
DTSTART:20241103T090000
END:STANDARD
BEGIN:DAYLIGHT
TZOFFSETFROM:-0800
TZOFFSETTO:-0700
TZNAME:PDT
DTSTART:20250309T100000
END:DAYLIGHT
BEGIN:STANDARD
TZOFFSETFROM:-0700
TZOFFSETTO:-0800
TZNAME:PST
DTSTART:20251102T090000
END:STANDARD
BEGIN:DAYLIGHT
TZOFFSETFROM:-0800
TZOFFSETTO:-0700
TZNAME:PDT
DTSTART:20260308T100000
END:DAYLIGHT
BEGIN:STANDARD
TZOFFSETFROM:-0700
TZOFFSETTO:-0800
TZNAME:PST
DTSTART:20261101T090000
END:STANDARD
END:VTIMEZONE
BEGIN:VEVENT
DTSTART;TZID=America/Los_Angeles:20250412T080000
DTEND;TZID=America/Los_Angeles:20250412T160000
DTSTAMP:20260425T153218
CREATED:20250107T162727Z
LAST-MODIFIED:20250322T163612Z
UID:10000198-1744444800-1744473600@lonewolfgunworks.com
SUMMARY:Intro to Shotgun
DESCRIPTION:Here’s what you can expect from our Intro to Shotgun class:\nSafety First: Our top priority in our Intro to Shotgun class is ensuring a safe and secure environment for all participants. You’ll receive comprehensive safety training\, including proper handling techniques\, range etiquette\, and rules to follow to ensure a smooth and secure experience. \nShotgun Basics: Our knowledgeable instructors will provide a thorough introduction to shotguns\, covering different types\, and components\, and how to properly load and unload them. You’ll gain a solid understanding of shotgun anatomy and functionality\, enabling you to handle these powerful firearms with confidence. \nShooting Techniques: From stance and grip to sight alignment and target acquisition\, our instructors will guide you through the essential shooting techniques to maximize accuracy and consistency. Whether you’re interested in skeet shooting\, trap shooting\, or even sporting clays\, you’ll learn the skills needed to hit your mark with precision. \nLive Fire Experience: Brace yourself for the adrenaline rush as you step onto the range and put your newly acquired skills to the test. Under the guidance of our experienced instructors\, you’ll have the opportunity to shoot live rounds. \nTips and Tricks: Throughout the class\, our instructors will share valuable tips\, tricks\, and insights gained from their years of experience. You’ll learn how to analyze your shots\, make adjustments\, and improve your overall performance\, taking your shotgun skills to the next level. \nCourse:\nIn this three-hour course\, clients will develop basic skill sets. This is a hands-on  practical course \n\nThe essentials of safety\, weapon handling\, and marksmanship.\nStrategy for defensive weapon deployment.\nAmmunition types and selection.\nPatterning your shotgun.\n\nEquipment Needed:\n\nPersonal Protection Equipment\n\nEar protection (electronic is preferred)\nSafety Glasses\nA billed hat\nA crew neck or button-up shirt. No V-necks or tank tops\nClosed-toe shoes\n\n\nAny quality shotgun (If you don’t have one\, contact us).\nA sling.\nAt least One hundred rounds of birdshot.\nAt least 15 rounds of 00 Buck\nAt least 5 Slugs\nOnly new factory-manufactured ammunition is permitted in class.\nAppropriate clothing for the season\, sunscreen\, hat\, bug spray\, water\, and snacks.\nA folding chair or stool\, unless you’re okay standing.
URL:https://lonewolfgunworks.com/course/intro-to-shotgun-2-3-2/
LOCATION:North Fork Wolf Creek Recreational Shooting Lanes
CATEGORIES:Shotgun
ATTACH;FMTTYPE=image/png:https://lonewolfgunworks.com/wp-content/uploads/2023/05/Shotgun-e1725383059543.png
ORGANIZER;CN="Lone Wolf Gun Works":MAILTO:info@lonewolfgunworks.com
GEO:45.783094;-123.365093
END:VEVENT
BEGIN:VEVENT
DTSTART;TZID=America/Los_Angeles:20250413T080000
DTEND;TZID=America/Los_Angeles:20250413T160000
DTSTAMP:20260425T153219
CREATED:20240903T165501Z
LAST-MODIFIED:20250107T161747Z
UID:10000196-1744531200-1744560000@lonewolfgunworks.com
SUMMARY:Defensive Handgun
DESCRIPTION:Unlock Your Confidence and Protect What Matters Most:\nJoin Our Elite Defensive Handgun Training Course!\nAre you ready to take control of your safety and security? Gain the skills\, knowledge\, and mindset needed to defend yourself and your loved ones. during our comprehensive Defensive Handgun Course. Designed for beginners and experienced shooters alike\, our program will equip you with the expertise to handle any potential threat confidently. \nSharpen your Skills\nIn our intensive course\, you’ll learn from seasoned firearms instructors who have honed their skills through years of practical experience. Through a combination of classroom instruction and hands-on training\, we’ll guide you through essential topics such as firearm safety\, marksmanship\, defensive tactics\, situational awareness\, and legal considerations. \nWhy choose our Defensive Handgun Training Course?\n\nExpert Guidance: Learn from the best in the field\, benefitting from the knowledge and experience of our seasoned instructors.\nComprehensive Curriculum: Gain a solid foundation in firearm safety\, marksmanship\, defensive techniques\, and tactical decision-making.\nRealistic Scenarios: Our immersive simulations test your skills under lifelike conditions\, preparing you for real-world scenarios.\nPersonalized Instruction: Receive individualized feedback and coaching to enhance your performance and address specific areas of improvement.\nEmpowerment and Confidence: Develop the mindset\, skills\, and confidence needed to protect yourself and your loved ones.\nSafety First: We prioritize safety above all else\, providing a controlled environment and adhering to strict safety protocols throughout the training.\n\nDon’t wait until it’s too late. Take the first step towards becoming your own protector by enrolling in our Defensive Handgun Course. Arm yourself with the knowledge and skills necessary to face any threat with confidence. Your safety is our mission\, and we’re here to guide you every step of the way. Join us today and embrace your newfound empowerment! \nCourse Goal: \nTo teach you solutions to a criminal attack and how to expand/contract and move as necessary while using your Pistol in a defensive posture. \nEquipment Needed:\n\nPersonal Protection Equipment\n\nEar protection (electronic is preferred)\nSafety Glasses\nA billed hat\nA crew neck or button-up shirt. No V-necks or tank tops\nClosed-toe shoes\n\n\nAny quality pistol (If you don’t have one\, contact us).\nAn OWB (outside the waistband) holster manufactured specifically for the weapon you own is recommended\, but not necessary.\nTwo or more magazines or speed loaders.\nAt least Three hundred rounds of ammunition.\nOnly new factory-manufactured ammunition is permitted in class.\nAppropriate clothing for the season\, sunscreen\, hat\, bug spray\, water\, and snacks.\nA folding chair or stool\, unless you’re okay with standing.\n\nSubjects Covered\n\nIntroduction to Stress Proofing your weapon handling skills.\nReview the elements of Combat Marksmanship.\nAn Introduction to Expedient Sighting.\nCountering the lethal threat in an expanding or contracting environment.\nIntroduction to the 360-degree attack.\nDevelopment of a personal training plan.\n\nCourse Duration\n8 hours: On-site lecture/practical application. \nPrerequisites\nThere are no prerequisites for this course; however\, students should have a solid foundation in marksmanship and weapon handling fundamentals if success in this class is to be achieved. \nNotes\nThis is an intermediate-level course developed to teach defensive firearms skills and tactics to the firearm owner who purchases a gun for protection outside the home. \nRead and understand the Waiver agreement. If you’re not okay with this agreement\, don’t take this class.
URL:https://lonewolfgunworks.com/course/defensive-handgun-2/2025-04-13/
LOCATION:North Fork Wolf Creek Recreational Shooting Lanes
CATEGORIES:Pistol
ATTACH;FMTTYPE=image/png:https://lonewolfgunworks.com/wp-content/uploads/2023/05/Reloads-e1691618772688.png
ORGANIZER;CN="Lone Wolf Gun Works":MAILTO:info@lonewolfgunworks.com
GEO:45.783094;-123.365093
END:VEVENT
END:VCALENDAR