BEGIN:VCALENDAR
VERSION:2.0
PRODID:-//Lone Wolf Gun Works - ECPv6.15.20//NONSGML v1.0//EN
CALSCALE:GREGORIAN
METHOD:PUBLISH
X-WR-CALNAME:Lone Wolf Gun Works
X-ORIGINAL-URL:https://lonewolfgunworks.com
X-WR-CALDESC:Events for Lone Wolf Gun Works
REFRESH-INTERVAL;VALUE=DURATION:PT1H
X-Robots-Tag:noindex
X-PUBLISHED-TTL:PT1H
BEGIN:VTIMEZONE
TZID:America/Los_Angeles
BEGIN:DAYLIGHT
TZOFFSETFROM:-0800
TZOFFSETTO:-0700
TZNAME:PDT
DTSTART:20230312T100000
END:DAYLIGHT
BEGIN:STANDARD
TZOFFSETFROM:-0700
TZOFFSETTO:-0800
TZNAME:PST
DTSTART:20231105T090000
END:STANDARD
BEGIN:DAYLIGHT
TZOFFSETFROM:-0800
TZOFFSETTO:-0700
TZNAME:PDT
DTSTART:20240310T100000
END:DAYLIGHT
BEGIN:STANDARD
TZOFFSETFROM:-0700
TZOFFSETTO:-0800
TZNAME:PST
DTSTART:20241103T090000
END:STANDARD
BEGIN:DAYLIGHT
TZOFFSETFROM:-0800
TZOFFSETTO:-0700
TZNAME:PDT
DTSTART:20250309T100000
END:DAYLIGHT
BEGIN:STANDARD
TZOFFSETFROM:-0700
TZOFFSETTO:-0800
TZNAME:PST
DTSTART:20251102T090000
END:STANDARD
BEGIN:DAYLIGHT
TZOFFSETFROM:-0800
TZOFFSETTO:-0700
TZNAME:PDT
DTSTART:20260308T100000
END:DAYLIGHT
BEGIN:STANDARD
TZOFFSETFROM:-0700
TZOFFSETTO:-0800
TZNAME:PST
DTSTART:20261101T090000
END:STANDARD
END:VTIMEZONE
BEGIN:VEVENT
DTSTART;TZID=America/Los_Angeles:20250412T080000
DTEND;TZID=America/Los_Angeles:20250412T160000
DTSTAMP:20260425T063459
CREATED:20250107T162727Z
LAST-MODIFIED:20250322T163612Z
UID:10000198-1744444800-1744473600@lonewolfgunworks.com
SUMMARY:Intro to Shotgun
DESCRIPTION:Here’s what you can expect from our Intro to Shotgun class:\nSafety First: Our top priority in our Intro to Shotgun class is ensuring a safe and secure environment for all participants. You’ll receive comprehensive safety training\, including proper handling techniques\, range etiquette\, and rules to follow to ensure a smooth and secure experience. \nShotgun Basics: Our knowledgeable instructors will provide a thorough introduction to shotguns\, covering different types\, and components\, and how to properly load and unload them. You’ll gain a solid understanding of shotgun anatomy and functionality\, enabling you to handle these powerful firearms with confidence. \nShooting Techniques: From stance and grip to sight alignment and target acquisition\, our instructors will guide you through the essential shooting techniques to maximize accuracy and consistency. Whether you’re interested in skeet shooting\, trap shooting\, or even sporting clays\, you’ll learn the skills needed to hit your mark with precision. \nLive Fire Experience: Brace yourself for the adrenaline rush as you step onto the range and put your newly acquired skills to the test. Under the guidance of our experienced instructors\, you’ll have the opportunity to shoot live rounds. \nTips and Tricks: Throughout the class\, our instructors will share valuable tips\, tricks\, and insights gained from their years of experience. You’ll learn how to analyze your shots\, make adjustments\, and improve your overall performance\, taking your shotgun skills to the next level. \nCourse:\nIn this three-hour course\, clients will develop basic skill sets. This is a hands-on  practical course \n\nThe essentials of safety\, weapon handling\, and marksmanship.\nStrategy for defensive weapon deployment.\nAmmunition types and selection.\nPatterning your shotgun.\n\nEquipment Needed:\n\nPersonal Protection Equipment\n\nEar protection (electronic is preferred)\nSafety Glasses\nA billed hat\nA crew neck or button-up shirt. No V-necks or tank tops\nClosed-toe shoes\n\n\nAny quality shotgun (If you don’t have one\, contact us).\nA sling.\nAt least One hundred rounds of birdshot.\nAt least 15 rounds of 00 Buck\nAt least 5 Slugs\nOnly new factory-manufactured ammunition is permitted in class.\nAppropriate clothing for the season\, sunscreen\, hat\, bug spray\, water\, and snacks.\nA folding chair or stool\, unless you’re okay standing.
URL:https://lonewolfgunworks.com/course/intro-to-shotgun-2-3-2/
LOCATION:North Fork Wolf Creek Recreational Shooting Lanes
CATEGORIES:Shotgun
ATTACH;FMTTYPE=image/png:https://lonewolfgunworks.com/wp-content/uploads/2023/05/Shotgun-e1725383059543.png
ORGANIZER;CN="Lone Wolf Gun Works":MAILTO:info@lonewolfgunworks.com
GEO:45.783094;-123.365093
END:VEVENT
BEGIN:VEVENT
DTSTART;TZID=America/Los_Angeles:20250322T080000
DTEND;TZID=America/Los_Angeles:20250322T170000
DTSTAMP:20260425T063459
CREATED:20250107T162946Z
LAST-MODIFIED:20250107T162947Z
UID:10000197-1742630400-1742662800@lonewolfgunworks.com
SUMMARY:Intro to Carbine
DESCRIPTION:Join Our Intro to Carbine Class!\nAre you eager to enhance your firearm skills and gain mastery over the carbine accordingly? Our Intro to Carbine Class offers the perfect opportunity to learn and refine your abilities with one of the most effective and versatile firearms. \nA carbine’s effectiveness comes from its design features\, versatility\, and practical advantages. Here’s why carbines are so effective: \nCompact Design\n\nSize and Weight: Carbines are shorter and lighter than rifles\, making them easier to handle and maneuver in tight spaces. This compact size also reduces fatigue during extended use.\n\nVersatility\n\nMulti-Role Capability: Carbines can be used in a variety of applications\, including self-defense\, tactical operations\, and even hunting. Their adaptability makes them valuable in numerous scenarios.\n\nEase of Use\n\nUser-Friendly: The lighter weight and manageable recoil of a carbine make it easier to shoot accurately\, even for those with less experience. This also enhances the shooter’s ability to stay on target and perform follow-up shots quickly.\n\nEffective Range\n\nBalanced Power: Carbines offer a balance between the stopping power of a rifle and the portability of a pistol. They are effective at mid-range distances\, typically up to 300 yards\, which covers most practical shooting situations.\n\nModularity\n\nCustomizable: Many carbines come with modular designs that allow for customization with various accessories such as optics\, grips\, and lights. This helps shooters tailor the carbine to their specific needs and preferences.\n\nAccuracy\n\nPrecision Engineering: Carbines are engineered for accuracy\, with features like adjustable sights and rails for optics. The shorter barrel length doesn’t significantly compromise their accuracy\, especially at typical engagement distances.\n\nReliability\n\nDurable Construction: Carbines are generally built to withstand harsh conditions and frequent use. Their robust construction ensures reliable performance even in challenging environments.\n\nLow Recoil\n\nManageable Recoil: Compared to larger rifles\, carbines usually have less recoil\, making them easier to control and reducing the impact on the shooter.\n\nThese characteristics make carbines a favored choice for a wide range of users\, from military and law enforcement to recreational shooters and hunters. \nWhat You’ll Learn:\nFundamental Techniques: Discover the core principles of carbine operation\, including loading\, unloading\, and safe handling.\nAccuracy and Control: Enhance your shooting precision with drills and exercises tailored to boost your accuracy and control accordingly.\nTactical Training: Understand how to efficiently use your carbine in various scenarios\, from self-defense to competitive shooting.\nMaintenance Tips: Keep your carbine in top condition with essential maintenance and care practices. \nWhy Choose Us?\nExperienced Instructors: Learning from certified professionals with extensive real-world experience.\nHands-On Training: Benefit from practical\, hands-on exercises that build confidence and competence with your carbine.\nSafe Environment: We prioritize safety\, ensuring a secure and supportive learning atmosphere. \nDon’t miss this opportunity to enhance your skills and join a community of passionate shooters. Spaces are limited\, so reserve your spot today! get ready for a transformative experience on the range! \nEquipment Needed:\nPersonal Protection Equipment: \n\nEar protection (electronic is preferred)\nSafety Glasses\nA billed hat\nA crew neck or button-up shirt. No V-necks or tank tops\nClosed-toe shoes\n\nFirearm: \n\nAny quality Carbine (If you don’t have one\, contact us).\nA sling.\nAt least 200 hundred rounds.\n5 magazines\nMagazine pouches\n\nOnly new factory-manufactured ammunition is permitted in our Intro to Carbine class. \nAppropriate clothing for the season\, sunscreen\, hat\, bug spray\, water\, lunch\, and snacks. \nSee you on the range!
URL:https://lonewolfgunworks.com/course/intro-to-carbine-2-2/
LOCATION:North Fork Wolf Creek Recreational Shooting Lanes
CATEGORIES:Rifle
ATTACH;FMTTYPE=image/jpeg:https://lonewolfgunworks.com/wp-content/uploads/2021/05/Scott-carbine-e1723222066926.jpg
ORGANIZER;CN="Lone Wolf Gun Works":MAILTO:info@lonewolfgunworks.com
GEO:45.783094;-123.365093
END:VEVENT
BEGIN:VEVENT
DTSTART;TZID=America/Los_Angeles:20240929T080000
DTEND;TZID=America/Los_Angeles:20240929T170000
DTSTAMP:20260425T063459
CREATED:20240903T174606Z
LAST-MODIFIED:20250107T162205Z
UID:10000188-1727596800-1727629200@lonewolfgunworks.com
SUMMARY:Intro to Carbine
DESCRIPTION:Join Our Intro to Carbine Class!\nAre you eager to enhance your firearm skills and gain mastery over the carbine accordingly? Our Intro to Carbine Class offers the perfect opportunity to learn and refine your abilities with one of the most effective and versatile firearms. \nA carbine’s effectiveness comes from its design features\, versatility\, and practical advantages. Here’s why carbines are so effective: \nCompact Design\n\nSize and Weight: Carbines are shorter and lighter than rifles\, making them easier to handle and maneuver in tight spaces. This compact size also reduces fatigue during extended use.\n\nVersatility\n\nMulti-Role Capability: Carbines can be used in a variety of applications\, including self-defense\, tactical operations\, and even hunting. Their adaptability makes them valuable in numerous scenarios.\n\nEase of Use\n\nUser-Friendly: The lighter weight and manageable recoil of a carbine make it easier to shoot accurately\, even for those with less experience. This also enhances the shooter’s ability to stay on target and perform follow-up shots quickly.\n\nEffective Range\n\nBalanced Power: Carbines offer a balance between the stopping power of a rifle and the portability of a pistol. They are effective at mid-range distances\, typically up to 300 yards\, which covers most practical shooting situations.\n\nModularity\n\nCustomizable: Many carbines come with modular designs that allow for customization with various accessories such as optics\, grips\, and lights. This helps shooters tailor the carbine to their specific needs and preferences.\n\nAccuracy\n\nPrecision Engineering: Carbines are engineered for accuracy\, with features like adjustable sights and rails for optics. The shorter barrel length doesn’t significantly compromise their accuracy\, especially at typical engagement distances.\n\nReliability\n\nDurable Construction: Carbines are generally built to withstand harsh conditions and frequent use. Their robust construction ensures reliable performance even in challenging environments.\n\nLow Recoil\n\nManageable Recoil: Compared to larger rifles\, carbines usually have less recoil\, making them easier to control and reducing the impact on the shooter.\n\nThese characteristics make carbines a favored choice for a wide range of users\, from military and law enforcement to recreational shooters and hunters. \nWhat You’ll Learn:\nFundamental Techniques: Discover the core principles of carbine operation\, including loading\, unloading\, and safe handling.\nAccuracy and Control: Enhance your shooting precision with drills and exercises tailored to boost your accuracy and control accordingly.\nTactical Training: Understand how to efficiently use your carbine in various scenarios\, from self-defense to competitive shooting.\nMaintenance Tips: Keep your carbine in top condition with essential maintenance and care practices. \nWhy Choose Us?\nExperienced Instructors: Learning from certified professionals with extensive real-world experience.\nHands-On Training: Benefit from practical\, hands-on exercises that build confidence and competence with your carbine.\nSafe Environment: We prioritize safety\, ensuring a secure and supportive learning atmosphere. \nDon’t miss this opportunity to enhance your skills and join a community of passionate shooters. Spaces are limited\, so reserve your spot today! get ready for a transformative experience on the range! \nEquipment Needed:\nPersonal Protection Equipment: \n\nEar protection (electronic is preferred)\nSafety Glasses\nA billed hat\nA crew neck or button-up shirt. No V-necks or tank tops\nClosed-toe shoes\n\nFirearm: \n\nAny quality Carbine (If you don’t have one\, contact us).\nA sling.\nAt least 200 hundred rounds.\n5 magazines\nMagazine pouches\n\nOnly new factory-manufactured ammunition is permitted in our Intro to Carbine class. \nAppropriate clothing for the season\, sunscreen\, hat\, bug spray\, water\, lunch\, and snacks. \nSee you on the range!
URL:https://lonewolfgunworks.com/course/intro-to-carbine-2/
LOCATION:North Fork Wolf Creek Recreational Shooting Lanes
CATEGORIES:Rifle
ATTACH;FMTTYPE=image/jpeg:https://lonewolfgunworks.com/wp-content/uploads/2021/05/Scott-carbine-e1723222066926.jpg
ORGANIZER;CN="Lone Wolf Gun Works":MAILTO:info@lonewolfgunworks.com
GEO:45.783094;-123.365093
END:VEVENT
BEGIN:VEVENT
DTSTART;TZID=America/Los_Angeles:20240928T130000
DTEND;TZID=America/Los_Angeles:20240928T160000
DTSTAMP:20260425T063459
CREATED:20240903T171438Z
LAST-MODIFIED:20250107T162542Z
UID:10000192-1727528400-1727539200@lonewolfgunworks.com
SUMMARY:Intro to Shotgun
DESCRIPTION:Here’s what you can expect from our Intro to Shotgun class:\nSafety First: Our top priority in our Intro to Shotgun class is ensuring a safe and secure environment for all participants. You’ll receive comprehensive safety training\, including proper handling techniques\, range etiquette\, and rules to follow to ensure a smooth and secure experience. \nShotgun Basics: Our knowledgeable instructors will provide a thorough introduction to shotguns\, covering different types\, and components\, and how to properly load and unload them. You’ll gain a solid understanding of shotgun anatomy and functionality\, enabling you to handle these powerful firearms with confidence. \nShooting Techniques: From stance and grip to sight alignment and target acquisition\, our instructors will guide you through the essential shooting techniques to maximize accuracy and consistency. Whether you’re interested in skeet shooting\, trap shooting\, or even sporting clays\, you’ll learn the skills needed to hit your mark with precision. \nLive Fire Experience: Brace yourself for the adrenaline rush as you step onto the range and put your newly acquired skills to the test. Under the guidance of our experienced instructors\, you’ll have the opportunity to shoot live rounds. \nTips and Tricks: Throughout the class\, our instructors will share valuable tips\, tricks\, and insights gained from their years of experience. You’ll learn how to analyze your shots\, make adjustments\, and improve your overall performance\, taking your shotgun skills to the next level. \nCourse:\nIn this three-hour course\, clients will develop basic skill sets. This is a hands-on  practical course \n\nThe essentials of safety\, weapon handling\, and marksmanship.\nStrategy for defensive weapon deployment.\nAmmunition types and selection.\nPatterning your shotgun.\n\nEquipment Needed:\n\nPersonal Protection Equipment\n\nEar protection (electronic is preferred)\nSafety Glasses\nA billed hat\nA crew neck or button-up shirt. No V-necks or tank tops\nClosed-toe shoes\n\n\nAny quality shotgun (If you don’t have one\, contact us).\nA sling.\nAt least One hundred rounds of birdshot.\nAt least 15 rounds of 00 Buck\nAt least 5 Slugs\nOnly new factory-manufactured ammunition is permitted in class.\nAppropriate clothing for the season\, sunscreen\, hat\, bug spray\, water\, and snacks.\nA folding chair or stool\, unless you’re okay standing.
URL:https://lonewolfgunworks.com/course/intro-to-shotgun-2-3/
LOCATION:North Fork Wolf Creek Recreational Shooting Lanes
CATEGORIES:Shotgun
ATTACH;FMTTYPE=image/png:https://lonewolfgunworks.com/wp-content/uploads/2023/05/Shotgun-e1725383059543.png
ORGANIZER;CN="Lone Wolf Gun Works":MAILTO:info@lonewolfgunworks.com
GEO:45.783094;-123.365093
END:VEVENT
END:VCALENDAR