BEGIN:VCALENDAR
VERSION:2.0
PRODID:-//Lone Wolf Gun Works - ECPv6.15.20//NONSGML v1.0//EN
CALSCALE:GREGORIAN
METHOD:PUBLISH
X-WR-CALNAME:Lone Wolf Gun Works
X-ORIGINAL-URL:https://lonewolfgunworks.com
X-WR-CALDESC:Events for Lone Wolf Gun Works
REFRESH-INTERVAL;VALUE=DURATION:PT1H
X-Robots-Tag:noindex
X-PUBLISHED-TTL:PT1H
BEGIN:VTIMEZONE
TZID:America/Los_Angeles
BEGIN:DAYLIGHT
TZOFFSETFROM:-0800
TZOFFSETTO:-0700
TZNAME:PDT
DTSTART:20250309T100000
END:DAYLIGHT
BEGIN:STANDARD
TZOFFSETFROM:-0700
TZOFFSETTO:-0800
TZNAME:PST
DTSTART:20251102T090000
END:STANDARD
BEGIN:DAYLIGHT
TZOFFSETFROM:-0800
TZOFFSETTO:-0700
TZNAME:PDT
DTSTART:20260308T100000
END:DAYLIGHT
BEGIN:STANDARD
TZOFFSETFROM:-0700
TZOFFSETTO:-0800
TZNAME:PST
DTSTART:20261101T090000
END:STANDARD
BEGIN:DAYLIGHT
TZOFFSETFROM:-0800
TZOFFSETTO:-0700
TZNAME:PDT
DTSTART:20270314T100000
END:DAYLIGHT
BEGIN:STANDARD
TZOFFSETFROM:-0700
TZOFFSETTO:-0800
TZNAME:PST
DTSTART:20271107T090000
END:STANDARD
END:VTIMEZONE
BEGIN:VEVENT
DTSTART;TZID=America/Los_Angeles:20260419T080000
DTEND;TZID=America/Los_Angeles:20260419T120000
DTSTAMP:20260423T153656
CREATED:20260103T223955Z
LAST-MODIFIED:20260103T223955Z
UID:10000200-1776585600-1776600000@lonewolfgunworks.com
SUMMARY:Intro to Handgun
DESCRIPTION:Unlock Your Shooting Potential: Join our Intro to Handgun Course!\nAre you ready to embark on an empowering journey into the world of firearms? Look no further! Our comprehensive Intro to Handgun Training Course is designed to equip you with the knowledge\, skills\, and confidence to handle a handgun safely and effectively. \nWhether you’re a complete novice or have minimal experience\, our expert instructors will guide you every step of the way. Discover the art of marksmanship through our hands-on approach\, where theory meets practical application in a supportive and controlled environment. \nWhat sets us apart?\nWe prioritize safety above all else. With an emphasis on responsible firearm handling\, our course covers essential topics like firearm safety rules\, proper grip and stance\, sight alignment\, and trigger control. We ensure that you develop a solid foundation of skills that will serve as the bedrock of your shooting proficiency. \nAs you progress\, our personalized coaching will help you refine your technique and boost your accuracy. Through engaging drills and exercises\, you’ll become adept at target acquisition\, speed shooting\, and reloading techniques. Our instructors bring their vast experience and passion for teaching to help you maximize your potential. \nWhether your goals involve self-defense\, recreational shooting\, or simply gaining a new skill\, our Beginner Handgun Training Course is your gateway to a world of possibilities. Take the first step towards firearm proficiency and join us today! \nSpaces are limited\, so don’t miss this opportunity. Sign up now and let us guide you toward becoming a confident and responsible handgun owner. Remember\, your safety and success are our top priorities!” \nAfter you complete this course\, you’ll be ready for our Defensive Handgun Course. \n(Note: It’s essential to ensure that all participants comply with legal requirements and regulations regarding firearm ownership and use in their respective jurisdictions.) \nCourse:\nIn this three-hour course\, clients will develop basic skill sets. This is a hands-on\, practical course. \n\nThe essentials of safety\, weapon handling\, and marksmanship.\nStrategy for defensive weapon deployment.\nAmmunition types and selection.\nHolsters and Concealed Carry.\n\nEquipment Needed:\n\nPersonal Protection Equipment\n\nEar protection (electronic is preferred)\nSafety Glasses\nA billed hat\nA crew neck or button-up shirt. No V-necks or tank tops\nClosed-toe shoes\n\n\nAny quality handgun (If you don’t have one\, contact us).\nAn OWB (outside the waistband) holster explicitly manufactured for the weapon (If you don’t have one\, contact us).\nAt least one hundred rounds of ammo.\nOnly new factory-manufactured ammunition is permitted in class.\nAppropriate clothing for the season\, sunscreen\, hat\, bug spray\, water\, and snacks.\nA folding chair or stool\, unless you’re okay standing.
URL:https://lonewolfgunworks.com/course/intro-to-handgun-04-19-2026/
LOCATION:North Fork Wolf Creek Recreational Shooting Lanes
CATEGORIES:Pistol
ATTACH;FMTTYPE=image/jpeg:https://lonewolfgunworks.com/wp-content/uploads/2019/05/IMG_20180128_161005-e1557432847679.jpg
ORGANIZER;CN="Lone Wolf Gun Works":MAILTO:info@lonewolfgunworks.com
GEO:45.783094;-123.365093
END:VEVENT
END:VCALENDAR